BEGIN:VCALENDAR
VERSION:2.0
PRODID:-//Château d&#039;Hélécine - ECPv4.6.14.1//NONSGML v1.0//EN
CALSCALE:GREGORIAN
METHOD:PUBLISH
X-WR-CALNAME:Château d&#039;Hélécine
X-ORIGINAL-URL:https://chateaudhelecine.be/en
X-WR-CALDESC:Events for Château d&#039;Hélécine
BEGIN:VEVENT
DTSTART;VALUE=DATE:20250309
DTEND;VALUE=DATE:20250310
DTSTAMP:20260421T132455
CREATED:20250102T133921Z
LAST-MODIFIED:20250307T141744Z
UID:5632-1741478400-1741564799@chateaudhelecine.be
SUMMARY:Parade vénitienne au Château d'Hélécine
DESCRIPTION:The Venice Carnival at the Château d’Hélécine on Sunday March 9\, 2025! \nAround fifty costumes to dazzle you all day and accompany your children in the grand final parade! \nAnd you\, will you come in disguise? \nThe first family event of 2025 at Château d’Hélécine! \n\nProgram :\n10:00 a.m.: 1st parade of Venetian costumes in the Court of Honor of the Castle\n11:30 a.m.: 1st parade of disguised children in the main courtyard of the Château\n2:30 p.m.: 2nd parade of Venetian costumes in the Court of Honor of the Castle\n3:30 p.m.: 2nd parade of disguised children in the main courtyard of the Château\n5:00 p.m.: End\n\n\nEntry is free to the event but you are asked to reserve your places via the following link:\n\nThe event is sold out\n
URL:https://chateaudhelecine.be/en/event/parade-venitienne-au-chateau-dhelecine/
LOCATION:Rue Armand Dewolf 2\, Hélécine\, Brabant wallon\, 1357\, Belgique
GEO:50.7474441;4.9753542
X-APPLE-STRUCTURED-LOCATION;VALUE=URI;X-ADDRESS=Rue Armand Dewolf 2 Hélécine Brabant wallon 1357 Belgique;X-APPLE-RADIUS=500;X-TITLE=Rue Armand Dewolf 2:geo:4.9753542,50.7474441
END:VEVENT
END:VCALENDAR