BEGIN:VCALENDAR
VERSION:2.0
PRODID:-//Château d&#039;Hélécine - ECPv4.6.14.1//NONSGML v1.0//EN
CALSCALE:GREGORIAN
METHOD:PUBLISH
X-WR-CALNAME:Château d&#039;Hélécine
X-ORIGINAL-URL:https://chateaudhelecine.be/en
X-WR-CALDESC:Events for Château d&#039;Hélécine
BEGIN:VEVENT
DTSTART;VALUE=DATE:20260222
DTEND;VALUE=DATE:20260223
DTSTAMP:20260420T203540
CREATED:20251217T100257Z
LAST-MODIFIED:20260129T102912Z
UID:6259-1771718400-1771804799@chateaudhelecine.be
SUMMARY:Parade Vénitienne
DESCRIPTION:Around fifty costumed enthusiasts of Venetian formal attire will gather for two parades in the Cour d’Honneur and the park. \nThis costumed parade is open to all ages. Everyone will have the opportunity to have their picture taken with the costumed participants\, and children are invited to come dressed up and walk the runway. \nVarious other activities will round out the day’s events. \nSchedule: \n\n10:00 AM: First parade of Venetian costumed participants in the Castle’s main courtyard\, followed by a stroll through the park for photos.\n11:00 AM: First parade of children in costume.\n2:00 PM: Second parade of children in costume.\n3:00 PM: Second parade of Venetian costumed participants in the Castle’s main courtyard\, followed by a stroll through the park for photos.\n5:00 PM: End\n\nAccess to the event is free. However\, to ensure optimal crowd management and smooth movement\, prior registration is required via the following link: https://my.weezevent.com/parade-venitienne-au-chateau-dhelecine-le-dimanche-22-fevrier-2026. \nLink to the Walloon Brabant Privacy Policy: https://www.brabantwallon.be/gdpr-view \n  \n
URL:https://chateaudhelecine.be/en/event/parade-venitienne/
LOCATION:Rue Armand Dewolf 2\, Hélécine\, Brabant wallon\, 1357\, Belgique
GEO:50.7474441;4.9753542
X-APPLE-STRUCTURED-LOCATION;VALUE=URI;X-ADDRESS=Rue Armand Dewolf 2 Hélécine Brabant wallon 1357 Belgique;X-APPLE-RADIUS=500;X-TITLE=Rue Armand Dewolf 2:geo:4.9753542,50.7474441
END:VEVENT
END:VCALENDAR