BEGIN:VCALENDAR
VERSION:2.0
PRODID:-//Château d&#039;Hélécine - ECPv4.6.14.1//NONSGML v1.0//EN
CALSCALE:GREGORIAN
METHOD:PUBLISH
X-WR-CALNAME:Château d&#039;Hélécine
X-ORIGINAL-URL:https://chateaudhelecine.be/fr
X-WR-CALDESC:Évènements pour Château d&#039;Hélécine
BEGIN:VEVENT
DTSTART;VALUE=DATE:20220403
DTEND;VALUE=DATE:20220404
DTSTAMP:20260422T133222
CREATED:20211201T122303Z
LAST-MODIFIED:20220328T090122Z
UID:3394-1648944000-1649030399@chateaudhelecine.be
SUMMARY:Fête du Printemps au Château d’Hélécine : chasse aux œufs
DESCRIPTION:Fête du Printemps au Château d’Hélécine. Une chasse aux œufs très originale pour fêter le retour du printemps : « Fête du Printemps et chasse aux pommes de pin!» (Voir l’évent sur la page du Château) \nSuivez la page Facebook du Château pour plus d’infos \n
URL:https://chateaudhelecine.be/fr/event/fete-du-printemps-au-chateau-dhelecine-chasse-aux-oeufs/
LOCATION:Rue Armand Dewolf 2\, Hélécine\, Brabant wallon\, 1357\, Belgique
GEO:50.7474441;4.9753542
X-APPLE-STRUCTURED-LOCATION;VALUE=URI;X-ADDRESS=Rue Armand Dewolf 2 Hélécine Brabant wallon 1357 Belgique;X-APPLE-RADIUS=500;X-TITLE=Rue Armand Dewolf 2:geo:4.9753542,50.7474441
END:VEVENT
END:VCALENDAR