BEGIN:VCALENDAR
VERSION:2.0
PRODID:-//Château d&#039;Hélécine - ECPv4.6.14.1//NONSGML v1.0//EN
CALSCALE:GREGORIAN
METHOD:PUBLISH
X-WR-CALNAME:Château d&#039;Hélécine
X-ORIGINAL-URL:https://chateaudhelecine.be/fr
X-WR-CALDESC:Évènements pour Château d&#039;Hélécine
BEGIN:VEVENT
DTSTART;VALUE=DATE:20191026
DTEND;VALUE=DATE:20200331
DTSTAMP:20260424T024938
CREATED:20190328T120449Z
LAST-MODIFIED:20191105T081632Z
UID:1771-1572048000-1585612799@chateaudhelecine.be
SUMMARY:Indoorgames
DESCRIPTION:600m² de châteaux gonflables couverts\, en plein cœur du parc du Château d’Hélécine!\nEt si le temps le permet\, la plaine de jeux extérieure de 5.000m² accueillera vos enfants! Et pourquoi pas une promenade dans le parc à la découverte des animaux qui y vivent?\nOuvert tous les mercredis\, week-ends\, vacances scolaires et jours fériés de 11h à 18h!\nPrix: 4€ par enfant (incluant 2 boissons gratuites)\nPossibilités d’anniversaires: Renseignements et réservations: 0475 492 482 \n
URL:https://chateaudhelecine.be/fr/event/indoorgames/
LOCATION:Rue Armand Dewolf 2\, Hélécine\, Brabant wallon\, 1357\, Belgique
GEO:50.7474441;4.9753542
X-APPLE-STRUCTURED-LOCATION;VALUE=URI;X-ADDRESS=Rue Armand Dewolf 2 Hélécine Brabant wallon 1357 Belgique;X-APPLE-RADIUS=500;X-TITLE=Rue Armand Dewolf 2:geo:4.9753542,50.7474441
END:VEVENT
END:VCALENDAR