BEGIN:VCALENDAR
VERSION:2.0
PRODID:-//Château d&#039;Hélécine - ECPv4.6.14.1//NONSGML v1.0//EN
CALSCALE:GREGORIAN
METHOD:PUBLISH
X-WR-CALNAME:Château d&#039;Hélécine
X-ORIGINAL-URL:https://chateaudhelecine.be/nl
X-WR-CALDESC:Evenementen voor Château d&#039;Hélécine
BEGIN:VEVENT
DTSTART;VALUE=DATE:20250921
DTEND;VALUE=DATE:20250922
DTSTAMP:20260421T061155
CREATED:20250103T095013Z
LAST-MODIFIED:20250918T121418Z
UID:5648-1758412800-1758499199@chateaudhelecine.be
SUMMARY:Le Toutou's day
DESCRIPTION:Kom allemaal naar de Château-bijeenkomst voor alle honden en hun vrienden! \nOp het programma een veertigtal exposanten\, diverse hondendemonstraties\, gespecialiseerde hondenfotografen\, enz. U maakt een familiewandeling met uw hond rond de vijvers om de fauna en flora van het park te ontdekken\, een kleine lunchpauze in de Brasserie en… Hij vertrok om op het podium te pa-raderen en te proberen de meest gelikete foto van de dag te zijn!En dat allemaal vergezeld door onze mascottes van de dag! \nIn de voor honden gereserveerde ruimte zijn behendigheidsmodules beschik-baar om uw prestaties te testen. \nEn voor kinderen: speeltuin\, springkastelen\, luchtstructuur\,… en tiental-len honden van alle rassen om te ontmoeten! \nProgramma : \n10h30 : Démonstration Mantrailing – 30 min (par Wood’s dog and Pony\, le petit monde d’Atlas) \n11h00 : Démonstration de recherche « stupéfiant » et « reste humain » – 30 min (Police fédérale) \n11h30 : Démonstration Dog Parkour – 30 min (par Wood’s dog and pony\, le petit monde d’Atlas) \n12h00 : Démonstration obéissance – 30 min (par Dog Univers et Pawsitive) \n12h30 : Défilé des chiens avec leurs maîtres \n13h30 : Démonstration de recherche « stupéfiant » et « reste humain » – 30 min (Police fédérale) \n14h00 : Démonstration Mantrailing – 30 min (par Wood’s dog and Pony\, le petit monde d’Atlas) \n14h30 : Démonstration obéissance – 30 min (par Dog Univers et Pawsitive) \n15h00 : Démonstration de recherche « stupéfiants » et « reste humain » – 30 min (Police fédérale) \n15h30 : Démonstration Dog Parkour – 30 min (par Wood’s dog and pony\, le petit monde d’Atlas) \n16H30 : Défilé des chiens avec leurs maîtres \nSchrijf u in op de Facebook-pagina van het Château om op de hoogte te blij-ven van aankomende activiteiten in het park \nGratis toegang\, toilet en parkeren (P1 en P3). Ruim 1.300 plaatsen.\nGehandicaptenparkeerplaats op parkeerplaats P1\nAdres: Parking P3: 26 Rue de l’Abbaye\, 1357 Hélécine \nZorg voor contant geld voor exposanten! \nHonden aangelijnd in het park\, behalve in de speeltuin waar ze verboden zijn. \nHet Château d’Hélécine blijft u verrassen! \n
URL:https://chateaudhelecine.be/nl/event/le-toutous-day/
LOCATION:Rue Armand Dewolf 2\, Hélécine\, Brabant wallon\, 1357\, Belgique
GEO:50.7474441;4.9753542
X-APPLE-STRUCTURED-LOCATION;VALUE=URI;X-ADDRESS=Rue Armand Dewolf 2 Hélécine Brabant wallon 1357 Belgique;X-APPLE-RADIUS=500;X-TITLE=Rue Armand Dewolf 2:geo:4.9753542,50.7474441
END:VEVENT
END:VCALENDAR