BEGIN:VCALENDAR
VERSION:2.0
PRODID:-//Château d&#039;Hélécine - ECPv4.6.14.1//NONSGML v1.0//EN
CALSCALE:GREGORIAN
METHOD:PUBLISH
X-WR-CALNAME:Château d&#039;Hélécine
X-ORIGINAL-URL:https://chateaudhelecine.be/nl
X-WR-CALDESC:Evenementen voor Château d&#039;Hélécine
BEGIN:VEVENT
DTSTART;VALUE=DATE:20241018
DTEND;VALUE=DATE:20241104
DTSTAMP:20260421T225337
CREATED:20241010T102226Z
LAST-MODIFIED:20241010T104103Z
UID:5471-1729209600-1730678399@chateaudhelecine.be
SUMMARY:HELEWEEN 2024
DESCRIPTION:\nHÉLÉWEEN 2024…DURVEN JIJ? \nVan 18 oktober tot 3 november 2024 \nReserveren: www.heleween.be \nDe oudste Hélécinois vertellen dat tijdens de donkerste nachten van het jaar gekwelde zielen ronddwalen onder de koepel van het Château d’Hélécine… Spectres met sinister gemompel\, die kraken\, kreunen\, verontrustende lichten aandoen en geluiden laten resoneren vervloek de doden\, wanhopig op zoek naar een manier om te ontsnappen. \nWat verbergt dit kasteel eigenlijk achter zijn oude stenen? Een geheime doorgang? Dingen vergeten? De zielen van de Premonstratenzer monniken\, ooit moedig en beschermend? Of… een gevangenis voor geesten en wezens van buitenaf? \nDertig jaar geleden mislukte een wetenschappelijk experiment op tragische wijze\, waardoor de oude abdij\, die vervolgens tot kasteel werd omgebouwd\, in een plaats van terreur veranderde. Sindsdien is dit kasteel de thuisbasis van een verzegelde bres\, een oud portaal dat ooit kwade wezens toeliet onze wereld binnen te dringen. Wat als een persoon met slechte bedoelingen het mechanisme zou activeren dat deze bres zou kunnen heropenen of de geesten zou kunnen bevrijden die gevangen zitten in de Koepel? De gevolgen kunnen desastreus zijn… \nOm erachter te komen\, durf te komen of terug te keren om de eerste geestengevangenis te bezoeken tijdens de editie van 2024! Van het concert van ontbrekende muzieklegendes\, teruggekeerd uit de wereld van de doden\, tot de meeslepende ervaring in de spectaculaire Dome of the Castle\, terwijl je door de sinistere gang van automaten loopt\, laat je betoveren door de magie van Brother Mandrake en vervolgens gefascineerd door de adembenemende videokaarten die de fascinerende en mysterieuze geschiedenis van deze abdij volgen\, nu getransformeerd in een sinistere gevangenis voor geesten. \nKom huiveren van angst\, vermomd op de meest angstaanjagende manier\, en verenig je met de bewakers en de geesten van de monniken om te voorkomen dat deze bres opnieuw wordt geopend. Maar wees voorzichtig… zelfs de bewakers zijn misschien niet wat ze lijken… \nPRAKTISCHE INFORMATIE \nWANNEER ? \nVan 18 oktober tot 3 november 2024 \nSCHEMA’S? \nVan 17.30 uur tot 23.00 uur \nPLAATS ? \nKasteel Hélécine — Rue Armand Dewolf 2 — 1357 Hélécine \nWANNEER MOET WIJ AANKOMEN? \nZorg ervoor dat u 30 minuten vóór aanvang van het bezoek aanwezig bent\, zodat u kunt parkeren en de locaties kunt vinden. \nLEEFTIJDEN? \nOpen voor iedereen\, jong en oud \nRESTAURATIE? \nIn het park is de Brasserie geopend: Snacks en bar\, terrassen. \nKaart- en contante betaling \nPARKEREN? \nGratis parkeren op parkeerplaats P1\, in de straat voor het Château en op parkeerplaats P3 \nHONDEN? \nHonden zijn niet toegestaan ​​bij shows in het kasteel en op de grote binnenplaats. \nDUUR VAN HET BEZOEK? \nTotale duur van het bezoek: 1u30 (gelieve 30 minuten vóór uw vertrektijd aanwezig te zijn om de plaatsen te lokaliseren) \nIN GEVAL VAN REGEN? \nDe betaalde prestatieruimtes zijn beschermd tegen de regen. \nWAT IS GRATIS? \nToegankelijkheid van het park rond de Brouwerij\, waterprojecties op de vijver gedurende de hele avond; verlichte speeltuin. \nWAT WORDT BETAALD? \nDe 3 shows: Brother Mandrake the Magician Show in de Oranjerie\, de mapping op de gevel op de grote binnenplaats en het bezoek in het kasteel\, in de gevangeniskoepel\, heel dicht bij de geesten… \nPRIJS ? \nOnline voorverkoop: € 13\,00 van 2 tot 12 jaar (inclusief software van € 3) – € 19 vanaf 12 jaar (inclusief software van € 3) \nPRIJS OP LOCATIE? \nTer plaatse (afhankelijk van beschikbaarheid – het wordt daarom sterk aanbevolen om online te boeken): € 18 van 2 tot 12 jaar oud (inclusief software van € 3) – € 24 vanaf 12 jaar (inclusief software van € 3) . \n  \n  \n\n
URL:https://chateaudhelecine.be/nl/event/heleween-2024/
LOCATION:Rue Armand Dewolf 2\, Hélécine\, Brabant wallon\, 1357\, Belgique
GEO:50.7474441;4.9753542
X-APPLE-STRUCTURED-LOCATION;VALUE=URI;X-ADDRESS=Rue Armand Dewolf 2 Hélécine Brabant wallon 1357 Belgique;X-APPLE-RADIUS=500;X-TITLE=Rue Armand Dewolf 2:geo:4.9753542,50.7474441
END:VEVENT
END:VCALENDAR