BEGIN:VCALENDAR
VERSION:2.0
PRODID:-//Château d&#039;Hélécine - ECPv4.6.14.1//NONSGML v1.0//EN
CALSCALE:GREGORIAN
METHOD:PUBLISH
X-WR-CALNAME:Château d&#039;Hélécine
X-ORIGINAL-URL:https://chateaudhelecine.be/nl
X-WR-CALDESC:Evenementen voor Château d&#039;Hélécine
BEGIN:VEVENT
DTSTART;TZID=UTC+0:20251017T080000
DTEND;TZID=UTC+0:20251102T200000
DTSTAMP:20260421T042031
CREATED:20250103T095613Z
LAST-MODIFIED:20250922T115909Z
UID:5654-1760688000-1762113600@chateaudhelecine.be
SUMMARY:Héléween 2025
DESCRIPTION:HÉLÉWEEN 2025…DURVEN JIJ? \nDe oudste inwoners van Hélécine beweren dat gekwelde zielen ronddwalen onder de voormalige abdij van Heylissem\, die nu Château d’Hélécine is geworden. Eenmaal per jaar\, 17 manen lang\, stort de adel van het kasteel in en worden ’s werelds enige spookgevangenis en haar kwaadaardige gevangenen onthuld. \nOntdek dit jaar het verhaal van een wees met een kristalheldere stem\, ooit puur en onschuldig\, die de verschrikkelijke Banshee werd\, wiens wraak nog steeds dreigt de balans tussen de werelden te verstoren en de duisternis te doen ontwaken! \nEen show van 90 minuten voor iedereen. \nDit jaar\, voor de derde editie\, opent Château d’Hélécine uitzonderlijk haar deuren en biedt u een boeiende avond vol emotie aan de hand van een origineel verhaal. \nOntdek \n– videovoorstellingen binnen en buiten\, waaronder een monumentale projectie van meer dan 90 meter breed op de gevel van het kasteel; \n– een grootse illusieshow georkestreerd door Broeder Mandrake; \n– een spannende rondleiding door de gevangenis. \nEn ook \n– gratis holoquatische concerten; \n– bars en snacks ter plaatse. \nLet op: kostuums aanbevolen! Dit houdt dwalende zielen op afstand… \nWanneer? Van 17 oktober tot en met 2 november 2025. \nAlle informatie en reserveringen op www.heleween.be \n  \n
URL:https://chateaudhelecine.be/nl/event/heleween-2025/
LOCATION:Rue Armand Dewolf 2\, Hélécine\, Brabant wallon\, 1357\, Belgique
GEO:50.7474441;4.9753542
X-APPLE-STRUCTURED-LOCATION;VALUE=URI;X-ADDRESS=Rue Armand Dewolf 2 Hélécine Brabant wallon 1357 Belgique;X-APPLE-RADIUS=500;X-TITLE=Rue Armand Dewolf 2:geo:4.9753542,50.7474441
END:VEVENT
END:VCALENDAR